BEGIN:VCALENDAR
VERSION:2.0
PRODID:spatie/icalendar-generator
DESCRIPTION:Events from FamilyWise
X-WR-CALDESC:Events from FamilyWise
REFRESH-INTERVAL;VALUE=DURATION:PT1440M
X-PUBLISHED-TTL:PT1440M
BEGIN:VTIMEZONE
TZID:Etc/GMT+0
BEGIN:STANDARD
DTSTART:20240914T100000Z
TZOFFSETFROM:+0000
TZOFFSETTO:+0000
END:STANDARD
END:VTIMEZONE
BEGIN:VTIMEZONE
TZID:UTC
BEGIN:STANDARD
DTSTART:20250725T162801Z
TZOFFSETFROM:+0000
TZOFFSETTO:+0000
END:STANDARD
END:VTIMEZONE
BEGIN:VEVENT
UID:33-32
DTSTAMP:20260421T162801Z
SUMMARY:Phase 4 Q&amp;amp\;A Session for Collaborative Coordinators – Filling
  Out Community Resilience Initiative Micro Grant Applications
LOCATION:
ORGANIZER;CN=Mel Fellrath:MAILTO:mfellrath@familywiseservices.org
DTSTART;TZID=Etc/GMT+0:20250611T100000
DTEND;TZID=Etc/GMT+0:20250611T104500
X-ALT-DESC;FMTTYPE=TEXT/HTML:Intended Audience: Collaboratives that submitt
 ed a Letter of Interest and were confirmed eligible to apply for a Communi
 ty Resilience Micro Grant Description: This 45-minute Phase 4 session is d
 esigned for Collaboratives participating in More Resilient Minnesota to re
 view the criteria and process for submitting an Application for a Communit
 y Resilience Initiative Micro Grant. There will&amp;hellip\;
CATEGORIES:General,  Collaboratives
URL;VALUE=URI:https://familywiseservices.org/mc-events/phase-4-qa-session-f
 or-collaborative-coordinators-filling-out-community-resilience-initiative-
 micro-grant-applications/
METHOD:PUBLISH
END:VEVENT
END:VCALENDAR